BEGIN:VCALENDAR
PRODID:Nexudus
VERSION:2.0
BEGIN:VTIMEZONE
TZID:America/New_York
X-LIC-LOCATION:America/New_York
BEGIN:STANDARD
DTSTART:20241103T020000
RRULE:FREQ=YEARLY;BYDAY=1SU;BYMONTH=11
TZNAME:EST
TZOFFSETFROM:-0400
TZOFFSETTO:-0500
END:STANDARD
BEGIN:DAYLIGHT
DTSTART:20250309T020000
RRULE:FREQ=YEARLY;BYDAY=2SU;BYMONTH=3
TZNAME:EDT
TZOFFSETFROM:-0500
TZOFFSETTO:-0400
END:DAYLIGHT
END:VTIMEZONE
BEGIN:VEVENT
DESCRIPTION:Expand your skills with tools that will help you to implement p
 roccesses in your projects. Aenean maximus dapibus ligula. Nullam tempus l
 ectus et volutpat aliquet. Aenean varius turpis felis\, quis tempor ipsum 
 rhoncus at. Integer iaculis volutpat pharetra. Donec ut nulla dapibus\, co
 nsectetur sem nec\, consectetur nunc. Nullam commodo\, ligula ac rutrum po
 rttitor\, mauris justo tempor ligula\, eget consectetur sapien lacus sed e
 x. In viverra auctor imperdiet. Sed ut finibus mauris. Suspendisse potenti
 .\nEvent link: https://collaburo.com/en/events/view/1084897845/design-thin
 king-workshop\n
DTEND;TZID=America/New_York:20190630T200000
DTSTAMP:20260422T032033Z
DTSTART;TZID=America/New_York:20190630T160000
LOCATION:Collabüro
SEQUENCE:0
SUMMARY:Design Thinking workshop
UID:1f7d30b0-1f37-4634-806a-91f73c9831fa
END:VEVENT
END:VCALENDAR
