BEGIN:VCALENDAR
PRODID:Nexudus
VERSION:2.0
BEGIN:VTIMEZONE
TZID:America/New_York
X-LIC-LOCATION:America/New_York
BEGIN:STANDARD
DTSTART:20241103T020000
RRULE:FREQ=YEARLY;BYDAY=1SU;BYMONTH=11
TZNAME:EST
TZOFFSETFROM:-0400
TZOFFSETTO:-0500
END:STANDARD
BEGIN:DAYLIGHT
DTSTART:20250309T020000
RRULE:FREQ=YEARLY;BYDAY=2SU;BYMONTH=3
TZNAME:EDT
TZOFFSETFROM:-0500
TZOFFSETTO:-0400
END:DAYLIGHT
END:VTIMEZONE
BEGIN:VEVENT
DESCRIPTION:Sed velit leo\, lacinia ac facilisis id\, egestas scelerisque l
 orem. Cras id quam nulla. Fusce pretium\, nisi vel iaculis finibus\, magna
  nisl pulvinar lorem\, ut rutrum urna felis tempor velit. Nulla facilisi. 
 Donec tempus ligula arcu\, sit amet ullamcorper risus volutpat at. Pellent
 esque euismod at sapien a sodales. Phasellus justo tellus\, laoreet dictum
  condimentum at\, consectetur sed lorem. \nEvent link: https://collaburo.c
 om/en/events/view/1084852779/acoustic-concert\n
DTEND;TZID=America/New_York:20190804T200000
DTSTAMP:20260422T045347Z
DTSTART;TZID=America/New_York:20190804T160000
LOCATION:Collabüro
SEQUENCE:0
SUMMARY:Acoustic concert
UID:73cf7798-00b2-4fb5-a6f0-ad3603be89bc
END:VEVENT
END:VCALENDAR
