BEGIN:VCALENDAR
PRODID:Nexudus
VERSION:2.0
BEGIN:VTIMEZONE
TZID:America/New_York
X-LIC-LOCATION:America/New_York
BEGIN:STANDARD
DTSTART:20241103T020000
RRULE:FREQ=YEARLY;BYDAY=1SU;BYMONTH=11
TZNAME:EST
TZOFFSETFROM:-0400
TZOFFSETTO:-0500
END:STANDARD
BEGIN:DAYLIGHT
DTSTART:20250309T020000
RRULE:FREQ=YEARLY;BYDAY=2SU;BYMONTH=3
TZNAME:EDT
TZOFFSETFROM:-0500
TZOFFSETTO:-0400
END:DAYLIGHT
END:VTIMEZONE
BEGIN:VEVENT
DESCRIPTION:This year’s theme is Sustainability & Development Through Edu
 cation. Come learn about the role education plays in creating positive env
 ironmental and social change\, while enjoying some wine and cheese.\nEvent
  link: https://collaburo.com/en/events/view/1276646436/wine---cheese--sust
 ainability---development-through-education\n
DTEND;TZID=America/New_York:20200313T220000
DTSTAMP:20260424T133044Z
DTSTART;TZID=America/New_York:20200313T183000
LOCATION:Collaburo
SEQUENCE:0
SUMMARY:Wine & Cheese- Sustainability & Development Through Education
UID:9f5aab59-fae1-467a-a560-be1155e34052
END:VEVENT
END:VCALENDAR
